BEGIN:VCALENDAR
VERSION:2.0
PRODID:-//Dawah Motivation - ECPv6.15.14//NONSGML v1.0//EN
CALSCALE:GREGORIAN
METHOD:PUBLISH
X-WR-CALNAME:Dawah Motivation
X-ORIGINAL-URL:https://thedawahmotivation.com
X-WR-CALDESC:Events for Dawah Motivation
REFRESH-INTERVAL;VALUE=DURATION:PT1H
X-Robots-Tag:noindex
X-PUBLISHED-TTL:PT1H
BEGIN:VTIMEZONE
TZID:UTC
BEGIN:STANDARD
TZOFFSETFROM:+0000
TZOFFSETTO:+0000
TZNAME:UTC
DTSTART:20250101T000000
END:STANDARD
END:VTIMEZONE
BEGIN:VEVENT
DTSTART;TZID=UTC:20260125T120000
DTEND;TZID=UTC:20260125T140000
DTSTAMP:20260423T233856
CREATED:20260120T084703Z
LAST-MODIFIED:20260120T151331Z
UID:6288-1769342400-1769349600@thedawahmotivation.com
SUMMARY:Existence of God | Knowing Allah
DESCRIPTION:Join us for an insightful training session exploring the existence of Allah and deepening your understanding of Who Allah truly is — in a way that is simple\, logical\, and practical. \n🎙️ With Br. Nadeem\n🗓️ Sunday | 25th January\n⏰ 12:00 PM – 2:00 PM (UK)\n💳 Registration fee: £5 / 500 PKR / 500 INR \n📌 Registration required\n🔗 Register here:https://forms.gle/4C8DR8y4F7bbkoPz7
URL:https://thedawahmotivation.com/event/existence-of-god-knowing-allah/
LOCATION:Online via Zoom
ATTACH;FMTTYPE=image/jpeg:https://thedawahmotivation.com/wp-content/uploads/2026/01/Existence-of-God-Knowing-Allah.jpeg
END:VEVENT
END:VCALENDAR