BEGIN:VCALENDAR
VERSION:2.0
PRODID:-//Dawah Motivation - ECPv6.15.14//NONSGML v1.0//EN
CALSCALE:GREGORIAN
METHOD:PUBLISH
X-WR-CALNAME:Dawah Motivation
X-ORIGINAL-URL:https://thedawahmotivation.com
X-WR-CALDESC:Events for Dawah Motivation
REFRESH-INTERVAL;VALUE=DURATION:PT1H
X-Robots-Tag:noindex
X-PUBLISHED-TTL:PT1H
BEGIN:VTIMEZONE
TZID:UTC
BEGIN:STANDARD
TZOFFSETFROM:+0000
TZOFFSETTO:+0000
TZNAME:UTC
DTSTART:20240101T000000
END:STANDARD
END:VTIMEZONE
BEGIN:VEVENT
DTSTART;TZID=UTC:20260326T100000
DTEND;TZID=UTC:20260326T130000
DTSTAMP:20260423T235502
CREATED:20260325T112654Z
LAST-MODIFIED:20260325T112745Z
UID:6304-1774519200-1774530000@thedawahmotivation.com
SUMMARY:Raise for Dawah | Team Training Session
DESCRIPTION:Join us for an engaging team training session designed to inspire and equip you for effective Dawah. This session focuses on building confidence\, clarity\, and purpose in spreading the message—guided in a practical and motivating way. \nSession Details \n👤 With: Sir Nadeem Ashraf (Dawah Mentor)\n📅 Date: Thursday\, 26th March 2026\n⏰ Time: 10:00 AM – 1:00 PM\n📍 Location: E Library near Jinnah Stadium\, Gujranwala
URL:https://thedawahmotivation.com/event/raise-for-dawah-team-training-session/
LOCATION:E Library near Jinnah Stadium\, Gujranwala\, E Library near Jinnah Stadium\, Gujranwala\, Punjab\, 52200\, Pakistan
ATTACH;FMTTYPE=image/webp:https://thedawahmotivation.com/wp-content/uploads/2026/03/WhatsApp-Image-2026-03-25-at-3.49.25-PM.webp
END:VEVENT
BEGIN:VEVENT
DTSTART;TZID=UTC:20260125T120000
DTEND;TZID=UTC:20260125T140000
DTSTAMP:20260423T235502
CREATED:20260120T084703Z
LAST-MODIFIED:20260120T151331Z
UID:6288-1769342400-1769349600@thedawahmotivation.com
SUMMARY:Existence of God | Knowing Allah
DESCRIPTION:Join us for an insightful training session exploring the existence of Allah and deepening your understanding of Who Allah truly is — in a way that is simple\, logical\, and practical. \n🎙️ With Br. Nadeem\n🗓️ Sunday | 25th January\n⏰ 12:00 PM – 2:00 PM (UK)\n💳 Registration fee: £5 / 500 PKR / 500 INR \n📌 Registration required\n🔗 Register here:https://forms.gle/4C8DR8y4F7bbkoPz7
URL:https://thedawahmotivation.com/event/existence-of-god-knowing-allah/
LOCATION:Online via Zoom
ATTACH;FMTTYPE=image/jpeg:https://thedawahmotivation.com/wp-content/uploads/2026/01/Existence-of-God-Knowing-Allah.jpeg
END:VEVENT
BEGIN:VEVENT
DTSTART;TZID=UTC:20251120T080000
DTEND;TZID=UTC:20251120T210000
DTSTAMP:20260423T235502
CREATED:20251118T115344Z
LAST-MODIFIED:20251119T140430Z
UID:6107-1763625600-1763672400@thedawahmotivation.com
SUMMARY:Design Argument
DESCRIPTION:Big Bang or Big Plan? 💥\nNothing in this universe is random.\nEvery orbit\, every atom\, every law… perfectly set. 🌎✨Let’s explore why.📆 Thursday\, 20th November 2025🕒 8–9 PM (PST)🎤 Aiman Qayyum📍 Open to ALL!Join the Halaqah and strengthen your Imaan through reason. 🚀 \n#DesignArgument #SignsInTheUniverse #DawahMotivation #HalaqahSeries #PurposeNotRandom
URL:https://thedawahmotivation.com/event/design-argument/
LOCATION:Online via Zoom
ATTACH;FMTTYPE=image/png:https://thedawahmotivation.com/wp-content/uploads/2025/11/image-1-1.png
END:VEVENT
BEGIN:VEVENT
DTSTART;TZID=UTC:20250913T150000
DTEND;TZID=UTC:20250913T170000
DTSTAMP:20260423T235502
CREATED:20250917T134603Z
LAST-MODIFIED:20250917T134634Z
UID:5541-1757775600-1757782800@thedawahmotivation.com
SUMMARY:Edgware London Dawah Training with Nadeem Ashraf
DESCRIPTION:
URL:https://thedawahmotivation.com/event/edgware-london-dawah-training-with-nadeem-ashraf/
LOCATION:Taiba Welfare Foundation\, Rectory Ln\, Edgware HA8 7LG\, United Kingdom\, Edgware\, Greater London\, HA8 7LG\, United Kingdom
ATTACH;FMTTYPE=image/jpeg:https://thedawahmotivation.com/wp-content/uploads/2025/09/WhatsApp-Image-2025-09-11-at-2.41.48-PM.jpeg
END:VEVENT
BEGIN:VEVENT
DTSTART;TZID=UTC:20250803T133000
DTEND;TZID=UTC:20250803T133000
DTSTAMP:20260423T235502
CREATED:20250802T161011Z
LAST-MODIFIED:20250802T162044Z
UID:5254-1754227800-1754227800@thedawahmotivation.com
SUMMARY:"LIFE WITHOUT ALLAH" By Ustadh Nadeem Ashraf
DESCRIPTION:Being introduced to Islam and grown with “I love ALLAH” that one thing which we surely never can imagine is “Life without ALLAH” \nAs shivering as it sounds\,\nAs cold as it feels\,\nThe biggest fear that one cannot imagine\nwithin the life beyond reels\,\nis what many amongst us are unknowingly living through \nThat which we cannot utter from our mouth is what’s secretly shadowing our routines. \nJoin an interactive Session “Life without ALLAH” by Mr. Nadeem Ashraf\, Head of YC UK\, a dawah trainer & speaker\, affiliated with iERA & Sapience Institute to unravel the precautionary path of “Life without ALLAH” to guiding path of “Life with ALLAH” not just in words but through mindset\, emotions and practice. \nLooking forward to seeing you all this Sunday 3rd August \n📍 Al Falah Masjid – West Drayton\n📆 Sunday 3rd August\n🕒 1:30 PM\n✨ Free | Open to all | Bring a friend \nLet this be your turning point.\n#LifeWithAllah #YouthClubUK #FaithAwakening
URL:https://thedawahmotivation.com/event/life-without-allah-by-ustadh-nadeem-ashraf/
LOCATION:Al Falah Masjid – West Drayton\, Al Falah Masjid – West Drayton
ATTACH;FMTTYPE=image/jpeg:https://thedawahmotivation.com/wp-content/uploads/2025/08/WhatsApp-Image-2025-08-02-at-7.59.50-PM.jpeg
END:VEVENT
BEGIN:VEVENT
DTSTART;TZID=UTC:20250726T080000
DTEND;TZID=UTC:20250726T170000
DTSTAMP:20260423T235502
CREATED:20250730T124207Z
LAST-MODIFIED:20250730T153457Z
UID:5236-1753516800-1753549200@thedawahmotivation.com
SUMMARY:Dr Nadeem Ashraf to Speak and Host at UK's First Ever National Dawah Convention 2025
DESCRIPTION:A Historic Moment in UK Dawah History\nDr. Nadeem\, one of the speakers and hosts\, will be providing the transformative experiences of effective dawah tactics\, community connections\, as well as encouraging others that it is possible to present the beautiful message of Islam without any hesitation. \nSuch an honourable invitation is a testimony of the relentless efforts of Dawah Motivation in enlightening Muslims with useful\, real-life\, tested techniques that are effective in initiating change. \nWhat Makes This Event Special?\nThe National Dawah Convention is a unique event introducing excellent dawah workers\, dawah management officers\, and those who aim to improve their Islamic proselytism abilities. \nDr Nadeem’s dual role as both a speaker and a host shows how he is regarded as a specialist on dawah training and community building. \nWhat Attendees Can Expect:\n\nBehind the curtains\, Dr. Nadeem’s tried and tested dawah system\, which has changed the lives of so many people\nChance to meet with serious dawah workers throughout the UK\nDown-to-earth training about how to eliminate typical obstacles to Islamic outreach\nStrategies of community building to develop long-term and sustainable dawah impact\nThe development of interpersonal communication in general\, and training on increasing confidence in expressing Islam in particular\nField experience and successful cases\, and stories\nQuestion and answer format on issues related to dawah in the modern world\n\nLooking Forward:\nThis National Dawah Convention embodies what we believe in\, at Dawah Motivation\, as we have every intention of being with people who are committed to spreading the message of Islam in its beautiful forms through effectiveness and wisdom. \nWe’re constantly active\, Alhumdulillah\, helping our community and having a chance to develop\, learn and spiritualize ourselves. \nStay connected to us\, and we will be at the forefront to provide good initiatives that will have an overall positive effect on the entire community.
URL:https://thedawahmotivation.com/event/dr-nadeem-ashraf-to-speak-and-host-at-uks-first-ever-national-dawah-convention-2025/
LOCATION:Punjab
ATTACH;FMTTYPE=image/png:https://thedawahmotivation.com/wp-content/uploads/2025/07/506252053_1111226094373063_1616176785805753820_n.png
END:VEVENT
BEGIN:VEVENT
DTSTART;TZID=UTC:20250724T080000
DTEND;TZID=UTC:20250724T170000
DTSTAMP:20260423T235502
CREATED:20250718T131744Z
LAST-MODIFIED:20250718T131744Z
UID:5185-1753344000-1753376400@thedawahmotivation.com
SUMMARY:UMT Campus Dawah Experience
DESCRIPTION:After many years\, I stepped into a university’s campus in Lahore\, not for getting admission\, but to spend a fruitful day with the young souls. I deeply thank my beautiful friends of ‘Dawah Motivation’\, as they helped me in getting out of my comfort zone and directly witness the pitiable plight our young generation is in. It was a friday\, and the university had hosted a lecture for creating awareness regarding palestine. We\, the members of ‘Dawah Motivation’ had arranged a stall near the lecture hall. Our main aim was to tell our young sisters regarding their life’s real purpose and how its acheivement becomes easier by being part of a sisterhood which may uplift them in every way and be with them in their difficult and sad times. Many girls showed enthusiasm and came to our stall and enquired regading what we do and why we do so etc? Some even got attracted by our little decoration and came to take a pic. And then got into a conversation with us regarding why dawah is necessary and how we train others to do dawah with Muslims and Non Muslims. We even had arranged a little activity to create some excitement among the visitors. There were few duas or tasks written on small pieces of paper\, folded beautifully and placed on a candle stand. Girls enjoyed it\, and would usually leave our stall in a happy mood.
URL:https://thedawahmotivation.com/event/umt-campus-dawah-experience/
LOCATION:Punjab
END:VEVENT
END:VCALENDAR